BEGIN:VCALENDAR
VERSION:2.0
PRODID:-//Karnevalsgesellschaft Herschbach 1912 e.V. - ECPv6.15.20//NONSGML v1.0//EN
CALSCALE:GREGORIAN
METHOD:PUBLISH
X-WR-CALNAME:Karnevalsgesellschaft Herschbach 1912 e.V.
X-ORIGINAL-URL:https://kg-herschbach.de
X-WR-CALDESC:Veranstaltungen für Karnevalsgesellschaft Herschbach 1912 e.V.
REFRESH-INTERVAL;VALUE=DURATION:PT1H
X-Robots-Tag:noindex
X-PUBLISHED-TTL:PT1H
BEGIN:VTIMEZONE
TZID:Europe/Berlin
BEGIN:DAYLIGHT
TZOFFSETFROM:+0100
TZOFFSETTO:+0200
TZNAME:CEST
DTSTART:20250330T010000
END:DAYLIGHT
BEGIN:STANDARD
TZOFFSETFROM:+0200
TZOFFSETTO:+0100
TZNAME:CET
DTSTART:20251026T010000
END:STANDARD
BEGIN:DAYLIGHT
TZOFFSETFROM:+0100
TZOFFSETTO:+0200
TZNAME:CEST
DTSTART:20260329T010000
END:DAYLIGHT
BEGIN:STANDARD
TZOFFSETFROM:+0200
TZOFFSETTO:+0100
TZNAME:CET
DTSTART:20261025T010000
END:STANDARD
BEGIN:DAYLIGHT
TZOFFSETFROM:+0100
TZOFFSETTO:+0200
TZNAME:CEST
DTSTART:20270328T010000
END:DAYLIGHT
BEGIN:STANDARD
TZOFFSETFROM:+0200
TZOFFSETTO:+0100
TZNAME:CET
DTSTART:20271031T010000
END:STANDARD
END:VTIMEZONE
BEGIN:VEVENT
DTSTART;TZID=Europe/Berlin:20260216T141100
DTEND;TZID=Europe/Berlin:20260216T170000
DTSTAMP:20260419T230035
CREATED:20250930T143521Z
LAST-MODIFIED:20260108T163036Z
UID:910-1771251060-1771261200@kg-herschbach.de
SUMMARY:Rosenmontagszug der KG Herschbach 1912 e.V.
DESCRIPTION:Der Rosenmontag ist und bleibt der große Abschluss der Session. Aufwändig mit Papierrosen dekorierte Prunkwagen und bunte Fußgruppen erfreuen Groß und Klein! Ein Meer aus Süßigkeiten geht über die Kinder und auch die Kehlen der Erwachsenen bleiben garantiert nicht trocken \nMontag\, 16. Februar 2026 ab 14:11 Uhr in den Straßen von Herschbach.  \nStraßensperrung ab: 12:00 Uhr Zug-Aufstellung ab: 13:00 Uhr \nZugaufstellung: Kreuzung Friedhofsallee in Richtung Tankstelle Kefferpütz  Verlauf: durch den Ortskern\, vorbei am Restaurant am Markt\, der Kirche\, Pizzeria Antalya  Zugauslauf: ED Tankstelle \nAnmeldung Rosenmontagszug Herschbach jetzt online \nDie Anmeldung zum Herschbacher Rosenmontagszug erfolgt ab sofort ausschließlich online über die Website der KG. \nMit dem neuen Online-Formular möchte der Verein die Anmeldung für alle Teilnehmergruppen übersichtlicher\, schneller und einfacher gestalten. Fußgruppen\, Prunkwagen\, Musikgruppen und sonstige Zugteilnehmer können ihre Anmeldung bequem von zu Hause aus ausfüllen und absenden. \nIm Formular werden alle für die Organisation wichtigen Angaben abgefragt. Da im Anmeldeprozess kein Upload von Dokumenten möglich ist\, werden die erforderlichen Unterlagen wie Zulassung\, Führerschein\, Fahrzeugschein und gültiger TÜV-Nachweis separat via Mail angefordert. \nDie Karnevalsgesellschaft bittet alle interessierten Gruppen\, die Anmeldung rechtzeitig über das Online-Formular vorzunehmen\, damit einem reibungslosen Ablauf des Rosenmontagszuges nichts im Wege steht. Wir freuen uns  auf viele bunte und kreative Beiträge. \nWeitere Informationen sowie das Anmeldeformular sind auf der Website der KG Herschbach zu finden. \n 
URL:https://kg-herschbach.de/event/rosenmontagszug-der-kg-herschbach-1912-e-v/
LOCATION:Zugstrecke Herschbach
CATEGORIES:Karnevalsumzug
END:VEVENT
BEGIN:VEVENT
DTSTART;TZID=Europe/Berlin:20260216T171100
DTEND;TZID=Europe/Berlin:20260217T020000
DTSTAMP:20260419T230035
CREATED:20250930T143840Z
LAST-MODIFIED:20250930T143840Z
UID:912-1771261860-1771293600@kg-herschbach.de
SUMMARY:After-Zug-Party im Haus Hergispach mit DJ
DESCRIPTION:Nach dem Rosenmontagszug laden wir zur After-Zug-Party im Haus Hergispach ein. Ein DJ heizt euch bei besten Karnevals-Hits\, Schlager und Partysongs so richtig ein!
URL:https://kg-herschbach.de/event/after-zug-party-im-haus-hergispach-mit-dj/
LOCATION:Haus Hergispach\, Festplatz\, Herschbach\, 56249\, Deutschland
CATEGORIES:Karnevalsparty
END:VEVENT
END:VCALENDAR