BEGIN:VCALENDAR
VERSION:2.0
PRODID:-//Karnevalsgesellschaft Herschbach 1912 e.V. - ECPv6.15.20//NONSGML v1.0//EN
CALSCALE:GREGORIAN
METHOD:PUBLISH
X-ORIGINAL-URL:https://kg-herschbach.de
X-WR-CALDESC:Veranstaltungen für Karnevalsgesellschaft Herschbach 1912 e.V.
REFRESH-INTERVAL;VALUE=DURATION:PT1H
X-Robots-Tag:noindex
X-PUBLISHED-TTL:PT1H
BEGIN:VTIMEZONE
TZID:Europe/Berlin
BEGIN:DAYLIGHT
TZOFFSETFROM:+0100
TZOFFSETTO:+0200
TZNAME:CEST
DTSTART:20250330T010000
END:DAYLIGHT
BEGIN:STANDARD
TZOFFSETFROM:+0200
TZOFFSETTO:+0100
TZNAME:CET
DTSTART:20251026T010000
END:STANDARD
BEGIN:DAYLIGHT
TZOFFSETFROM:+0100
TZOFFSETTO:+0200
TZNAME:CEST
DTSTART:20260329T010000
END:DAYLIGHT
BEGIN:STANDARD
TZOFFSETFROM:+0200
TZOFFSETTO:+0100
TZNAME:CET
DTSTART:20261025T010000
END:STANDARD
BEGIN:DAYLIGHT
TZOFFSETFROM:+0100
TZOFFSETTO:+0200
TZNAME:CEST
DTSTART:20270328T010000
END:DAYLIGHT
BEGIN:STANDARD
TZOFFSETFROM:+0200
TZOFFSETTO:+0100
TZNAME:CET
DTSTART:20271031T010000
END:STANDARD
END:VTIMEZONE
BEGIN:VEVENT
DTSTART;TZID=Europe/Berlin:20260214T201100
DTEND;TZID=Europe/Berlin:20260215T020000
DTSTAMP:20260419T230317
CREATED:20250930T143017Z
LAST-MODIFIED:20260108T160537Z
UID:906-1771099860-1771120800@kg-herschbach.de
SUMMARY:Große Gala-Sitzung der KG Herschbach 1912 e.V.
DESCRIPTION:Freut euch auf ein buntes Programm aus Garde- und Showtänzen\, Sketchen\, Büttenreden und vielem mehr! \nAUSVERKAUFT!
URL:https://kg-herschbach.de/event/grosse-gala-sitzung-der-kg-herschbach-1912-e-v/
LOCATION:Haus Hergispach\, Festplatz\, Herschbach\, 56249\, Deutschland
CATEGORIES:Sitzung
END:VEVENT
BEGIN:VEVENT
DTSTART;TZID=Europe/Berlin:20260215T080000
DTEND;TZID=Europe/Berlin:20260215T170000
DTSTAMP:20260419T230317
CREATED:20250930T143216Z
LAST-MODIFIED:20250930T143216Z
UID:908-1771142400-1771174800@kg-herschbach.de
SUMMARY:Kindersitzung der KG Herschbach 1912 e.V.
DESCRIPTION:Der Karnevalssonntag steht wie immer ganz im Zeichen der kleinsten Karnevalisten. Sie zeigen bei er Kindersitzung\, dass sie den Großen in Nichts nachstehen! \nEinlass: 14:11 Uhr (Kinder frei)
URL:https://kg-herschbach.de/event/kindersitzung-der-kg-herschbach-1912-e-v/
LOCATION:Haus Hergispach\, Festplatz\, Herschbach\, 56249\, Deutschland
CATEGORIES:Sitzung
END:VEVENT
END:VCALENDAR