BEGIN:VCALENDAR
VERSION:2.0
PRODID:-//Karnevalsgesellschaft Herschbach 1912 e.V. - ECPv6.15.20//NONSGML v1.0//EN
CALSCALE:GREGORIAN
METHOD:PUBLISH
X-ORIGINAL-URL:https://kg-herschbach.de
X-WR-CALDESC:Veranstaltungen für Karnevalsgesellschaft Herschbach 1912 e.V.
REFRESH-INTERVAL;VALUE=DURATION:PT1H
X-Robots-Tag:noindex
X-PUBLISHED-TTL:PT1H
BEGIN:VTIMEZONE
TZID:Europe/Berlin
BEGIN:DAYLIGHT
TZOFFSETFROM:+0100
TZOFFSETTO:+0200
TZNAME:CEST
DTSTART:20250330T010000
END:DAYLIGHT
BEGIN:STANDARD
TZOFFSETFROM:+0200
TZOFFSETTO:+0100
TZNAME:CET
DTSTART:20251026T010000
END:STANDARD
BEGIN:DAYLIGHT
TZOFFSETFROM:+0100
TZOFFSETTO:+0200
TZNAME:CEST
DTSTART:20260329T010000
END:DAYLIGHT
BEGIN:STANDARD
TZOFFSETFROM:+0200
TZOFFSETTO:+0100
TZNAME:CET
DTSTART:20261025T010000
END:STANDARD
BEGIN:DAYLIGHT
TZOFFSETFROM:+0100
TZOFFSETTO:+0200
TZNAME:CEST
DTSTART:20270328T010000
END:DAYLIGHT
BEGIN:STANDARD
TZOFFSETFROM:+0200
TZOFFSETTO:+0100
TZNAME:CET
DTSTART:20271031T010000
END:STANDARD
END:VTIMEZONE
BEGIN:VEVENT
DTSTART;TZID=Europe/Berlin:20260212T191100
DTEND;TZID=Europe/Berlin:20260213T020000
DTSTAMP:20260420T004912
CREATED:20250930T142627Z
LAST-MODIFIED:20250930T142646Z
UID:901-1770923460-1770948000@kg-herschbach.de
SUMMARY:Preiskostümball des Möhnenverein Fidelio (Schwerdonnerstag)
DESCRIPTION:Wir freuen uns auf einen bunten Abend und ein tolles Programm bei den Herschber Möhnen! Sucht eure schönsten Kostüme raus und nehmt teil am Preiskostümball\, die Gewinner erwarten tolle Preise! \nTickets vorab erhältlich.
URL:https://kg-herschbach.de/event/preiskostuemball-des-moehnenverein-fidelio-schwerdonnerstag/
LOCATION:Haus Hergispach\, Festplatz\, Herschbach\, 56249\, Deutschland
CATEGORIES:Sitzung
END:VEVENT
END:VCALENDAR