BEGIN:VCALENDAR
VERSION:2.0
PRODID:-//Karnevalsgesellschaft Herschbach 1912 e.V. - ECPv6.15.20//NONSGML v1.0//EN
CALSCALE:GREGORIAN
METHOD:PUBLISH
X-ORIGINAL-URL:https://kg-herschbach.de
X-WR-CALDESC:Veranstaltungen für Karnevalsgesellschaft Herschbach 1912 e.V.
REFRESH-INTERVAL;VALUE=DURATION:PT1H
X-Robots-Tag:noindex
X-PUBLISHED-TTL:PT1H
BEGIN:VTIMEZONE
TZID:Europe/Berlin
BEGIN:DAYLIGHT
TZOFFSETFROM:+0100
TZOFFSETTO:+0200
TZNAME:CEST
DTSTART:20250330T010000
END:DAYLIGHT
BEGIN:STANDARD
TZOFFSETFROM:+0200
TZOFFSETTO:+0100
TZNAME:CET
DTSTART:20251026T010000
END:STANDARD
BEGIN:DAYLIGHT
TZOFFSETFROM:+0100
TZOFFSETTO:+0200
TZNAME:CEST
DTSTART:20260329T010000
END:DAYLIGHT
BEGIN:STANDARD
TZOFFSETFROM:+0200
TZOFFSETTO:+0100
TZNAME:CET
DTSTART:20261025T010000
END:STANDARD
BEGIN:DAYLIGHT
TZOFFSETFROM:+0100
TZOFFSETTO:+0200
TZNAME:CEST
DTSTART:20270328T010000
END:DAYLIGHT
BEGIN:STANDARD
TZOFFSETFROM:+0200
TZOFFSETTO:+0100
TZNAME:CET
DTSTART:20271031T010000
END:STANDARD
END:VTIMEZONE
BEGIN:VEVENT
DTSTART;TZID=Europe/Berlin:20260110T141100
DTEND;TZID=Europe/Berlin:20260110T190000
DTSTAMP:20260419T212434
CREATED:20250930T140201Z
LAST-MODIFIED:20250930T140949Z
UID:873-1768054260-1768071600@kg-herschbach.de
SUMMARY:Herrensitzung der Närrischen Ritter WW e.V.
DESCRIPTION:Tickets vorab bei den Mitgliedern der Närrischen Ritter WW erhältlich! \nEuch erwartet ein tolles und abwechslungsreiches Programm!
URL:https://kg-herschbach.de/event/herrensitzung-der-naerrischen-ritter-ww-e-v/
LOCATION:Haus Hergispach\, Festplatz\, Herschbach\, 56249\, Deutschland
CATEGORIES:Sitzung
END:VEVENT
BEGIN:VEVENT
DTSTART;TZID=Europe/Berlin:20260110T191100
DTEND;TZID=Europe/Berlin:20260111T010000
DTSTAMP:20260419T212434
CREATED:20250930T140503Z
LAST-MODIFIED:20250930T140503Z
UID:877-1768072260-1768093200@kg-herschbach.de
SUMMARY:Prinzenproklamation der KG Malberg 1934 e.V.
DESCRIPTION:Auswährtsfahrt zu unseren Freunden der KG Malberg \nAbfahrt: 18:30 Uhr am Haus Hergispach!!
URL:https://kg-herschbach.de/event/prinzenproklamation-der-kg-malberg-1934-e-v/
LOCATION:Bürgerhaus Malberg
CATEGORIES:Prinzenproklamation
END:VEVENT
END:VCALENDAR