BEGIN:VCALENDAR
VERSION:2.0
PRODID:-//Karnevalsgesellschaft Herschbach 1912 e.V. - ECPv6.15.20//NONSGML v1.0//EN
CALSCALE:GREGORIAN
METHOD:PUBLISH
X-WR-CALNAME:Karnevalsgesellschaft Herschbach 1912 e.V.
X-ORIGINAL-URL:https://kg-herschbach.de
X-WR-CALDESC:Veranstaltungen für Karnevalsgesellschaft Herschbach 1912 e.V.
REFRESH-INTERVAL;VALUE=DURATION:PT1H
X-Robots-Tag:noindex
X-PUBLISHED-TTL:PT1H
BEGIN:VTIMEZONE
TZID:Europe/Berlin
BEGIN:DAYLIGHT
TZOFFSETFROM:+0100
TZOFFSETTO:+0200
TZNAME:CEST
DTSTART:20230326T010000
END:DAYLIGHT
BEGIN:STANDARD
TZOFFSETFROM:+0200
TZOFFSETTO:+0100
TZNAME:CET
DTSTART:20231029T010000
END:STANDARD
BEGIN:DAYLIGHT
TZOFFSETFROM:+0100
TZOFFSETTO:+0200
TZNAME:CEST
DTSTART:20240331T010000
END:DAYLIGHT
BEGIN:STANDARD
TZOFFSETFROM:+0200
TZOFFSETTO:+0100
TZNAME:CET
DTSTART:20241027T010000
END:STANDARD
BEGIN:DAYLIGHT
TZOFFSETFROM:+0100
TZOFFSETTO:+0200
TZNAME:CEST
DTSTART:20250330T010000
END:DAYLIGHT
BEGIN:STANDARD
TZOFFSETFROM:+0200
TZOFFSETTO:+0100
TZNAME:CET
DTSTART:20251026T010000
END:STANDARD
END:VTIMEZONE
BEGIN:VEVENT
DTSTART;TZID=Europe/Berlin:20240211T080000
DTEND;TZID=Europe/Berlin:20240211T170000
DTSTAMP:20260423T121301
CREATED:20231114T163144Z
LAST-MODIFIED:20231114T163427Z
UID:169-1707638400-1707670800@kg-herschbach.de
SUMMARY:Kinderprinzenempfang
DESCRIPTION:
URL:https://kg-herschbach.de/event/kinderprinzenempfang/
LOCATION:Pfarrheim Herschbach
END:VEVENT
BEGIN:VEVENT
DTSTART;TZID=Europe/Berlin:20240211T151100
DTEND;TZID=Europe/Berlin:20240211T203000
DTSTAMP:20260423T121301
CREATED:20231114T163327Z
LAST-MODIFIED:20240129T102247Z
UID:175-1707664260-1707683400@kg-herschbach.de
SUMMARY:Kindersitzung KG Herschbach
DESCRIPTION:Beginn 15:11 Uhr\, Einlass: 14:11 Uhr\nAuch unsere Kleinsten sind bei uns schon ganz groß! Der Karnevalssonntag steht wie immer ganz im Zeichen des närrischen Nachwuchses. Auf der Kindersitzung zeigen unsere jüngsten Karnevalisten\, dass sie den Großen in Nichts nachstehen. Erwarten werden Euch bunte Vorträge und Tänze.
URL:https://kg-herschbach.de/event/kindersitzung-kg-herschbach/
LOCATION:Haus Hergispach\, Festplatz\, Herschbach\, 56249\, Deutschland
CATEGORIES:Sitzung
END:VEVENT
END:VCALENDAR